Workbook

Sheet ESF
B2: Estado de Situación Financiera
B3: Al 31 de agosto de 2020
B4: (Pesos)
C5: Ente Público: | D5: O.P.D. DE LA ADMINISTRACIÓN PÚBLICA MUNICIPAL, DENOMINADO SISTEMA PARA EL DESARROLLO INTEGRAL DE LA FAMILIA DE GUADALAJARA
C8: CONCEPTO | E8: Año | H8: CONCEPTO | J8: Año
E9: 2020 | F9: 2019 | J9: 2020 | K9: 2019
C11: ACTIVO | H11: PASIVO
C13: Activo Circulante | H13: Pasivo Circulante
C15: Efectivo y Equivalentes | E15: 95514798 | F15: 40201655 | H15: Cuentas por Pagar a Corto Plazo | J15: 15885947 | K15: 33034742
C16: Derechos a Recibir Efectivo o Equivalentes | E16: 1396732.6 | F16: 782550.52 | H16: Documentos por Pagar a Corto Plazo | J16: 0 | K16: 0
C17: Derechos a Recibir Bienes o Servicios | E17: 222798.17 | F17: 27544.53 | H17: Porción a Corto Plazo de la Deuda Pública a Largo Plazo | J17: 0 | K17: 0
C18: Inventarios | E18: 0 | F18: 0 | H18: Títulos y Valores a Corto Plazo | J18: 0 | K18: 0
C19: Almacenes | E19: 779959.54 | F19: 926044.35 | H19: Pasivos Diferidos a Corto Plazo | J19: 0 | K19: 0
C20: Estimación por Pérdida o Deterioro de Activos Circulantes | E20: 0 | F20: 0 | H20: Fondos y Bienes de Terceros en Garantía y/o Administración a Corto Plazo | J20: 0 | K20: 0
C21: Otros Activos Circulantes | E21: 23294 | F21: 23294 | H21: Provisiones a Corto Plazo | J21: 0 | K21: 0
H22: Otros Pasivos a Corto Plazo | J22: 134984.55 | K22: 134400.25
C23: Total de Activos Circulantes | E23: =SUM(E15:E22) -> 97937582 | F23: =SUM(F15:F22) -> 41961088
H24: Total de Pasivos Circulantes | J24: =SUM(J15:J23) -> 16020931 | K24: =SUM(K15:K23) -> 33169142
C26: Activo No Circulante | H26: Pasivo No Circulante
C28: Inversiones Financieras a Largo Plazo | E28: 0 | F28: 0 | H28: Cuentas por Pagar a Largo Plazo | J28: 0 | K28: 0
C29: Derechos a Recibir Efectivo o Equivalentes a Largo Plazo | E29: 0 | F29: 0 | H29: Documentos por Pagar a Largo Plazo | J29: 0 | K29: 0
C30: Bienes Inmuebles, Infraestructura y Construcciones en Proceso | E30: 87177084 | F30: 87177084 | H30: Deuda Pública a Largo Plazo | J30: 0 | K30: 0
C31: Bienes Muebles | E31: 24079107 | F31: 23849997 | H31: Pasivos Diferidos a Largo Plazo | J31: 0 | K31: 0
C32: Activos Intangibles | E32: 677440 | F32: 677440 | H32: Fondos y Bienes de Terceros en Garantía y/o en Administración a Largo Plazo | J32: 0 | K32: 0
C33: Depreciación, Deterioro y Amortización Acumulada de Bienes | E33: -12691459 | F33: -12691459 | H33: Provisiones a Largo Plazo | J33: 0 | K33: 0
C34: Activos Diferidos | E34: 0 | F34: 0
C35: Estimación por Pérdida o Deterioro de Activos no Circulantes | E35: 0 | F35: 0 | H35: Total de Pasivos No Circulantes | J35: =SUM(J28:J34) -> 0 | K35: =SUM(K28:K34) -> 0
C36: Otros Activos no Circulantes | E36: 0 | F36: 0
H37: TOTAL DEL PASIVO | J37: =J24+J35 -> 16020931 | K37: =K24+K35 -> 33169142
C38: Total de Activos No Circulantes | E38: =SUM(E28:E37) -> 99242172 | F38: =SUM(F28:F37) -> 99013062
H39: HACIENDA PÚBLICA/ PATRIMONIO
C40: TOTAL DEL ACTIVO | E40: =E23+E38 -> 1.9717975e+08 | F40: =F23+F38 -> 1.4097415e+08
H41: Hacienda Pública/Patrimonio Contribuido | J41: =SUM(J43:J45) -> 77245779 | K41: =SUM(K43:K45) -> 77245779
H43: Aportaciones | J43: 0 | K43: 0
H44: Donaciones de Capital | J44: 77245779 | K44: 77245779
H45: Actualización de la Hacienda Pública / Patrimonio | J45: 0 | K45: 0
H47: Hacienda Pública/Patrimonio Generado | J47: =SUM(J49:J53) -> 1.0391304e+08 | K47: =SUM(K49:K53) -> 30559229
H49: Resultados del Ejercicio (Ahorro / Desahorro) | J49: =EDOACT!$J$53 -> 73353814 | K49: 39048094
H50: Resultados de Ejercicios Anteriores | J50: 42837307 | K50: 3789213.4
H51: Revalúos | J51: 1459138 | K51: 1459138
...

Sheet EDOACT
B3: Estado de Actividades
B4: Del 1o. de enero al 31 de agosto de 2020
B5: (Pesos)
C7: Ente Público: | D7: O.P.D. DE LA ADMINISTRACIÓN PÚBLICA MUNICIPAL, DENOMINADO SISTEMA PARA EL DESARROLLO INTEGRAL DE LA FAMILIA DE GUADALAJARA
C9: Concepto | E9: 2020 | F9: 2019 | H9: Concepto | J9: 2020 | K9: 2019
C11: INGRESOS Y OTROS BENEFICIOS | H11: GASTOS Y OTRAS PÉRDIDAS
C12: Ingresos de la Gestión | E12: =SUM(E13:E20) -> 8011324.4 | F12: =SUM(F13:F20) -> 26009043 | H12: Gastos de Funcionamiento | J12: =SUM(J13:J15) -> 2.7836722e+08 | K12: =SUM(K13:K15) -> 4.5618641e+08
C13: Impuestos | E13: 0 | F13: 0 | H13: Servicios Personales | J13: 257077605 | K13: 4.0180379e+08
C14: Cuotas y Aportaciones de Seguridad Social | E14: 0 | F14: 0 | H14: Materiales y Suministros | J14: 11230643 | K14: 23805285
C15: Contribuciones de Mejoras | E15: 0 | F15: 0 | H15: Servicios Generales | J15: 10058976 | K15: 30577341
C16: Derechos | E16: 0 | F16: 0
C17: Productos de Tipo Corriente | E17: 0 | F17: 0 | H17: Transferencias, Asignaciones, Subsidios y Otras Ayudas | J17: =SUM(J18:J26) -> 4221537 | K17: =SUM(K18:K26) -> 16476649
C18: Aprovechamientos de Tipo Corriente | E18: 0 | F18: 0 | H18: Transferencias Internas y Asignaciones al Sector Público | J18: 0 | K18: 0
C19: Ingresos por Venta de Bienes y Servicios | E19: 8011324.4 | F19: 26009043 | H19: Transferencias al Resto del Sector Público | J19: 0 | K19: 0
C20: Ingresos no Comprendidos en las Fracciones de la Ley de Ingresos Causados en Ejercicios Fiscales Anteriores Pendientes de Liquidación o Pago | E20: 0 | F20: 0 | H20: Subsidios y Subvenciones | J20: 0 | K20: 0
H21: Ayudas Sociales | J21: 4221537 | K21: 16476649
C22: Participaciones, Aportaciones, Transferencias, Asignaciones, Subsidios y Otras Ayudas | E22: =SUM(E23:E24) -> 3.4493569e+08 | F22: =SUM(F23:F24) -> 4.881611e+08 | H22: Pensiones y Jubilaciones | J22: 0 | K22: 0
C23: Participaciones y Aportaciones | E23: 5581090 | F23: 15053493 | H23: Transferencias a Fideicomisos, Mandatos y Contratos Análogos | J23: 0 | K23: 0
C24: Transferencias, Asignaciones, Subsidios y Otras ayudas | E24: 339354604 | F24: 4.731076e+08 | H24: Transferencias a la Seguridad Social | J24: 0 | K24: 0
H25: Donativos | J25: 0 | K25: 0
C26: Otros Ingresos y Beneficios | E26: =SUM(E27:E31) -> 2995556.8 | F26: =SUM(F27:F31) -> 2572014.6 | H26: Transferencias al Exterior | J26: 0 | K26: 0
C27: Ingresos Financieros | E27: 1848964.3 | F27: 1127134.4
C28: Incremento por Variación de Inventarios | E28: 0 | F28: 0 | H28: Participaciones y Aportaciones | J28: =SUM(J29:J31) -> 0 | K28: =SUM(K29:K31) -> 0
C29: Disminución del Exceso de Estimaciones por Pérdida o Deterioro u Obsolescencia | E29: 0 | F29: 0 | H29: Participaciones | J29: 0 | K29: 0
C30: Disminución del Exceso de Provisiones | E30: 0 | F30: 0 | H30: Aportaciones | J30: 0 | K30: 0
C31: Otros Ingresos y Beneficios Varios | E31: 1146592.5 | F31: 1444880.2 | H31: Convenios | J31: 0 | K31: 0
C33: Total de Ingresos y Otros Beneficios | E33: =E12+E22+E26 -> 3.5594258e+08 | F33: =F12+F22+F26 -> 5.1674215e+08 | H33: Intereses, Comisiones y Otros Gastos de la Deuda Pública | J33: =SUM(J34:J38) -> 0 | K33: =SUM(K34:K38) -> 0
H34: Intereses de la Deuda Pública | J34: 0 | K34: 0
H35: Comisiones de la Deuda Pública | J35: 0 | K35: 0
H36: Gastos de la Deuda Pública | J36: 0 | K36: 0
H37: Costo por Coberturas | J37: 0 | K37: 0
H38: Apoyos Financieros | J38: 0 | K38: 0
H40: Otros Gastos y Pérdidas Extraordinarias | J40: =SUM(J41:J46) -> 0 | K40: =SUM(K41:K46) -> 5030996.3
H41: Estimaciones, Depreciaciones, Deterioros, Obsolescencia y Amortizaciones | J41: 0 | K41: 5030996.3
H42: Provisiones | J42: 0 | K42: 0
H43: Disminución de Inventarios | J43: 0 | K43: 0
H44: Aumento por Insuficiencia de Estimaciones por Pérdida o Deterioro y Obsolescencia | J44: 0 | K44: 0
H45: Aumento por Insuficiencia de Provisiones | J45: 0 | K45: 0
H46: Otros Gastos | J46: 0 | K46: 0
H48: Inversión Pública | J48: =J49 -> 0 | K48: =K49 -> 0
...

Sheet EVHP
B1: Estado de Variación en la Hacienda Pública
B2: Del 1o. de enero al 31 de agosto de 2020
C5: Ente Público: | D5: O.P.D. DE LA ADMINISTRACIÓN PÚBLICA MUNICIPAL, DENOMINADO SISTEMA PARA EL DESARROLLO INTEGRAL DE LA FAMILIA DE GUADALAJARA
C8: Concepto | E8: Hacienda Pública/Patrimonio Contribuido | F8: Hacienda Pública/Patrimonio Generado de Ejercicios Anteriores | G8: Hacienda Pública/Patrimonio Generado del Ejercicio | H8: Exceso o Insuficiencia en la Actualización de la Hacienda Pública / Patrimonio | I8: TOTAL
C9: Hacienda Pública / Patrimonio Contribuido Neto 2019 | E9: =SUM(E10:E12) -> 77245779 | F9: =SUM(F10:F12) -> 0 | G9: =SUM(G10:G12) -> 0 | H9: =SUM(H10:H12) -> 0 | I9: =SUM(E9:H9) -> 77245779
C10: Aportaciones | E10: 0 | F10: 0 | G10: 0 | H10: 0 | I10: =SUM(E10:H10) -> 0
C11: Donaciones de Capital | E11: 77245779 | F11: 0 | G11: 0 | H11: 0 | I11: =SUM(E11:H11) -> 77245779
C12: Actualización de la Hacienda Pública/Patrimonio | E12: 0 | F12: 0 | G12: 0 | H12: 0 | I12: =SUM(E12:H12) -> 0
C14: Hacienda Pública/Patrimonio Generado Neto 2019 | E14: =SUM(E15:E19) -> 0 | F14: =SUM(F15:F19) -> -8488865.2 | G14: =SUM(G15:G19) -> 39048094 | H14: =SUM(H15:H19) -> 0 | I14: =SUM(E14:H14) -> 30559229
C15: Resultados del Ejercicio (Ahorro/Desahorro) | E15: 0 | F15: 0 | G15: 39048094 | H15: 0 | I15: =SUM(E15:H15) -> 39048094
C16: Resultados de Ejercicios Anteriores | E16: 0 | F16: 3789213.4 | G16: 0 | H16: 0 | I16: =SUM(E16:H16) -> 3789213.4
C17: Revalúos | F17: 1459138 | G17: 0 | H17: 0 | I17: =SUM(E17:H17) -> 1459138
C18: Reservas | E18: 0 | F18: 0 | G18: 0 | H18: 0 | I18: =SUM(E18:H18) -> 0
C19: Rectificaciones de Resultados de Ejercicio Anteriores | E19: 0 | F19: -13737217 | G19: 0 | H19: 0 | I19: =SUM(E19:H19) -> -13737217
C21: Exceso o Insuficiencia en la Actualización de la Hacienda Pública/Patrimonio Generado Neto 2019 | E21: =E22+E23 -> 0 | F21: =F22+F23 -> 0 | G21: =G22+G23 -> 0 | H21: =H22+H23 -> 0 | I21: =SUM(E21:H21) -> 0
C22: Resultado por Posición Monetaria | E22: 0 | F22: 0 | G22: 0 | H22: 0 | I22: =SUM(E22:H22) -> 0
C23: Resultado por Tenencia de Activos no Monetarios | E23: 0 | F23: 0 | G23: 0 | H23: 0 | I23: =SUM(E23:H23) -> 0
C25: Hacienda Pública/Patrimonio Neto Final 2019 | E25: =E9 -> 77245779 | F25: =F14 -> -8488865.2 | G25: =G14 -> 39048094 | H25: =H9+H14+H21 -> 0 | I25: =SUM(E25:H25) -> 1.0780501e+08
C27: Cambios en la Hacienda Pública/Patrimonio Neto del Ejercicio 2020 | E27: =SUM(E28:E30) -> 0 | F27: =SUM(F28:F30) -> 0 | G27: =SUM(G28:G30) -> 0 | H27: =SUM(H28:H30) -> 0 | I27: =SUM(E27:H27) -> 0
C28: Aportaciones | E28: 0 | F28: 0 | G28: 0 | H28: 0 | I28: =SUM(E28:H28) -> 0
C29: Donaciones de Capital | E29: 0 | F29: 0 | G29: 0 | H29: 0 | I29: =SUM(E29:H29) -> 0
C30: Actualización de la Hacienda Pública/Patrimonio | E30: 0 | F30: 0 | G30: 0 | H30: 0 | I30: =SUM(E30:H30) -> 0
C32: Variaciones de la Hacienda Pública/Patrimonio Neto del Ejercicio 2020 | E32: =SUM(E33:E37) -> 0 | F32: =SUM(F33:F37) -> 42837307 | G32: =SUM(G33:G37) -> 30516507 | H32: =SUM(H33:H37) -> 0 | I32: =SUM(E32:H32) -> 73353814
C33: Resultados del Ejercicio (Ahorro/Desahorro) | E33: 0 | F33: 0 | G33: =EDOACT!J53 -> 73353814 | H33: 0 | I33: =SUM(E33:H33) -> 73353814
C34: Resultados de Ejercicios Anteriores | E34: 0 | F34: 42837307 | G34: -42837307 | H34: 0 | I34: =SUM(E34:H34) -> 0
C35: Revalúos | E35: 0 | F35: 0 | G35: 0 | H35: 0 | I35: =SUM(E35:H35) -> 0
C36: Reservas | E36: 0 | F36: 0 | G36: 0 | H36: 0 | I36: =SUM(E36:H36) -> 0
C37: Rectificaciones de Resultados de Ejercicio Anteriores | E37: 0 | F37: 0 | G37: 0 | H37: 0 | I37: =SUM(E37:H37) -> 0
C39: Exceso o Insuficiencia en la Actualización de la Hacienda Pública/Patrimonio Generado Neto 2020 | E39: =E40+E41 -> 0 | F39: =F40+F41 -> 0 | G39: =G40+G41 -> 0 | H39: =H40+H41 -> 0 | I39: =SUM(E39:H39) -> 0
C40: Resultado por Posición Monetaria | E40: 0 | F40: 0 | G40: 0 | H40: 0 | I40: =SUM(E40:H40) -> 0
C41: Resultado por Tenencia de Activos no Monetarios | E41: 0 | F41: 0 | G41: 0 | H41: 0 | I41: =SUM(E41:H41) -> 0
C43: Hacienda Pública / Patrimonio Neto Final 2020 | E43: =E25+E27 -> 77245779 | F43: =F25+F32 -> 34348442 | G43: =G25+G32 -> 69564601 | H43: =H25+H39 -> 0 | I43: =SUM(E43:H43) -> 1.8115882e+08
C46: "Bajo protesta de decir verdad declaramos que los Estados Financieros y sus Notas son razonablemente correctos y responsabilidad del emisor"

Sheet EAA

Sheet EAD

Sheet Pasivos Contingentes

Sheet FLUJOEFVO
A1: Estado de Flujos de Efectivo
A2: Del 1o. de enero al 31 de agosto de 2020
A3: (Pesos)
A5: Ente Público: | C5: O.P.D. DE LA ADMINISTRACIÓN PÚBLICA MUNICIPAL, DENOMINADO SISTEMA PARA EL DESARROLLO INTEGRAL DE LA FAMILIA DE GUADALAJARA
A7: Concepto | E7: 2020 | G7: 2019
A8: Flujos de Efectivo de las Actividades de Operación
B9: Origen | E9: =SUM(E10:E19) -> 3.5594258e+08 | G9: =SUM(G10:G19) -> 5.1674215e+08
C10: Impuestos | E10: 0 | G10: 0
C11: Cuotas y Aportaciones de Seguridad Social | E11: 0 | G11: 0
C12: Contribuciones de mejoras | E12: 0 | G12: 0
C13: Derechos | E13: 0 | G13: 0
C14: Productos de Tipo Corriente | E14: 0 | G14: 0
C15: Aprovechamientos de Tipo Corriente | E15: 0 | G15: 0
C16: Ingresos por Venta de Bienes y Servicios | E16: =EDOACT!E19 -> 8011324.4 | G16: =EDOACT!F19 -> 26009043
C17: Participaciones y Aportaciones | E17: =EDOACT!E23 -> 5581090 | G17: =EDOACT!F23 -> 15053493
C18: Transferencias, Asignaciones y Subsidios y Otras ayudas | E18: =EDOACT!E24 -> 339354604 | G18: =EDOACT!F24 -> 4.731076e+08
C19: Otros Origenes de Operación | E19: =EDOACT!E26 -> 2995556.8 | G19: =EDOACT!F26 -> 2572014.6
B21: Aplicación | E21: =SUM(E22:E37) -> 2.8258876e+08 | G21: =SUM(G22:G37) -> 4.7769406e+08
C22: Servicios Personales | E22: =EDOACT!J13 -> 257077605 | G22: =EDOACT!K13 -> 4.0180379e+08
C23: Materiales y Suministros | E23: =EDOACT!J14 -> 11230643 | G23: =EDOACT!K14 -> 23805285
C24: Servicios Generales | E24: =EDOACT!J15 -> 10058976 | G24: =EDOACT!K15 -> 30577341
C25: Transferencias Internas y Asignaciones al Sector Público | E25: 0 | G25: 0
C26: Transferencias al resto del Sector Público | E26: 0 | G26: 0
C27: Subsidios y Subvenciones | E27: 0 | G27: 0
C28: Ayudas Sociales | E28: =EDOACT!J21 -> 4221537 | G28: =EDOACT!K21 -> 16476649
C29: Pensiones y Jubilaciones | E29: 0 | G29: 0
C30: Transferencias a Fideicomisos, Mandatos y Contratos Análogos | E30: 0 | G30: 0
C31: Transferencias a la Seguridad Social | E31: =EDOACT!J24 -> 0 | G31: 0
C32: Donativos | E32: 0 | G32: 0
C33: Transferencias al Exterior | E33: 0 | G33: 0
C34: Participaciones | E34: 0 | G34: 0
C35: Aportaciones | E35: 0 | G35: 0
C36: Convenios | E36: 0 | G36: 0
C37: Otros Aplicaciones de Operación | E37: =EDOACT!J41 -> 0 | G37: =EDOACT!K40 -> 5030996.3
B38: Flujos Netos de Efectivo por Actividades de Operación | E38: =E9-E21 -> 73353814 | G38: =G9-G21 -> 39048094
A39: Flujos de Efectivo de las Actividades de Inversión
B40: Origen | E40: =SUM(E41:E43) -> 0 | G40: =SUM(G41:G43) -> 0
C41: Bienes Inmuebles, Infraestructura y Construcciones en Proceso | E41: 0 | G41: 0
C42: Bienes Muebles | E42: 0 | G42: 0
C43: Otros Orígenes de Invresión | E43: 0 | G43: 0
...

Sheet ECSF
B2: Estado de Cambios en la Situación Financiera
B3: Al 31 de agosto de 2020
B4: (Pesos)
C5: Ente Público: | D5: O.P.D. DE LA ADMINISTRACIÓN PÚBLICA MUNICIPAL, DENOMINADO SISTEMA PARA EL DESARROLLO INTEGRAL DE LA FAMILIA DE GUADALAJARA
C9: Concepto | E9: Origen | F9: Aplicación | H9: Concepto | J9: Origen | K9: Aplicación
C12: ACTIVO | E12: =E14+E24 -> 146084.81 | F12: =F14+F24 -> 55915739 | H12: PASIVO | J12: =J14+J25 -> 584.3 | K12: =K14+K25 -> 17148795
C14: Activo Circulante | E14: =SUM(E16:E22) -> 146084.81 | F14: =SUM(F16:F22) -> 55686629 | H14: Pasivo Circulante | J14: =SUM(J16:J23) -> 584.3 | K14: =SUM(K16:K23) -> 17148795
C16: Efectivo y Equivalentes | E16: 0 | F16: 55313143 | H16: Cuentas por Pagar a Corto Plazo | J16: 0 | K16: 17148795
C17: Derechos a Recibir Efectivo o Equivalentes | E17: 0 | F17: 178232.57 | H17: Documentos por Pagar a Corto Plazo | J17: 0 | K17: 0
C18: Derechos a Recibir Bienes o Servicios | E18: 0 | F18: 195253.64 | H18: Porción a Corto Plazo de la Deuda Pública a Largo Plazo | J18: 0 | K18: 0
C19: Inventarios | E19: 0 | F19: 0 | H19: Títulos y Valores a Corto Plazo | J19: 0 | K19: 0
C20: Almacenes | E20: 146084.81 | F20: 0 | H20: Pasivos Diferidos a Corto Plazo | J20: 0 | K20: 0
C21: Estimación por Pérdida o Deterioro de Activos Circulantes | E21: 0 | F21: 0 | H21: Fondos y Bienes de Terceros en Garantía y/o Administración a Corto Plazo | J21: 0 | K21: 0
C22: Otros Activos Circulantes | E22: 0 | F22: 0 | H22: Provisiones a Corto Plazo | J22: 0 | K22: 0
H23: Otros Pasivos a Corto Plazo | J23: 584.3 | K23: 0
C24: Activo No Circulante | E24: =SUM(E26:E34) -> 0 | F24: =SUM(F26:F34) -> 229109.74
H25: Pasivo No Circulante | J25: =SUM(J27:J32) -> 0 | K25: =SUM(K27:K32) -> 0
C26: Inversiones Financieras a Largo Plazo | E26: 0 | F26: 0
C27: Derechos a Recibir Efectivo o Equivalentes a Largo Plazo | E27: 0 | F27: 0 | H27: Cuentas por Pagar a Largo Plazo | J27: 0 | K27: 0
C28: Bienes Inmuebles, Infraestructura y Construcciones en Proceso | E28: 0 | F28: 0 | H28: Documentos por Pagar a Largo Plazo | J28: 0 | K28: 0
C29: Bienes Muebles | E29: 0 | F29: 229109.74 | H29: Deuda Pública a Largo Plazo | J29: 0 | K29: 0
C30: Activos Intangibles | E30: 0 | F30: 0 | H30: Pasivos Diferidos a Largo Plazo | J30: 0 | K30: 0
C31: Depreciación, Deterioro y Amortización Acumulada de Bienes | E31: 0 | F31: 0 | H31: Fondos y Bienes de Terceros en Garantía y/o en Administración a Largo Plazo | J31: 0 | K31: 0
C32: Activos Diferidos | E32: 0 | F32: 0 | H32: Provisiones a Largo Plazo | J32: 0 | K32: 0
C33: Estimación por Pérdida o Deterioro de Activos no Circulantes | E33: 0 | F33: 0
C34: Otros Activos no Circulantes | E34: 0 | F34: 0 | H34: HACIENDA PÚBLICA/ PATRIMONIO | J34: =J36+J42+J50 -> 72917865 | K34: =K36+K42+K50 -> 0.4
H36: Hacienda Pública/Patrimonio Contribuido | J36: =SUM(J38:J40) -> 0 | K36: =SUM(K38:K40) -> 0
H38: Aportaciones | J38: 0 | K38: 0
H39: Donaciones de Capital | J39: 0 | K39: 0
H40: Actualización de la Hacienda Pública / Patrimonio | J40: 0 | K40: 0
H42: Hacienda Pública/Patrimonio Generado | J42: =SUM(J44:J48) -> 72917865 | K42: =SUM(K44:K48) -> 0.4
H44: Resultados del Ejercicio (Ahorro / Desahorro) | J44: 33869771 | K44: 0
H45: Resultados de Ejercicios Anteriores | J45: 39048094 | K45: 0
H46: Revalúos | J46: 0 | K46: 0.4
H47: Reservas | J47: 0 | K47: 0
H48: Rectificaciones de Resultados de Ejercicios Anteriores | J48: 0 | K48: 0
H50: Exceso o Insuficiencia en la Actualización de la Hacienda Pública/Patrimonio | J50: =SUM(J52:J53) -> 0 | K50: =SUM(K52:K53) -> 0
H52: Resultado por Posición Monetaria | J52: 0 | K52: 0
H53: Resultado por Tenencia de Activos no Monetarios | J53: 0 | K53: 0
B56: "Bajo protesta de decir verdad declaramos que los Estados Financieros y sus Notas son razonablemente correctos y responsabilidad del emisor"

Sheet EDOANAACT
B3: Estado Analítico del Activo
B5: Del 01 de Enero al 31 de agosto de 2020
B6: (Pesos)
C7: Ente Público: | D7: O.P.D. DE LA ADMINISTRACIÓN PÚBLICA MUNICIPAL, DENOMINADO SISTEMA PARA EL DESARROLLO INTEGRAL DE LA FAMILIA DE GUADALAJARA
C10: CONCEPTO | E10: SALDO INICIAL 1 | F10: CARGO DEL PERIODO 2 | G10: ABONO DEL PERIODO 3 | H10: SALDO FINAL 4 (1+2-3) | I10: VARIACION DEL PERIODO (4-1)
C14: ACTIVO
C16: Activo Circulante
C18: Efectivo y Equivalentes | E18: 40201655 | F18: 1.2065713e+09 | G18: 1.1512582e+09 | H18: =E18+F18-G18 -> 95514798 | I18: =H18-E18 -> 55313143
C19: Derechos a Recibir Efectivo o Equivalentes | E19: 782550.52 | F19: 3.5664629e+08 | G19: 3.5603211e+08 | H19: =E19+F19-G19 -> 1396732.6 | I19: =H19-E19 -> 614182.04
C20: Derechos a Recibir Bienes o Servicios | E20: 27544.53 | F20: 458335.64 | G20: 263082 | H20: =E20+F20-G20 -> 222798.17 | I20: =H20-E20 -> 195253.64
C21: Inventarios | E21: 0 | F21: 0 | G21: 0 | H21: =E21+F21-G21 -> 0 | I21: =H21-E21 -> 0
C22: Almacenes | E22: 926044.35 | F22: 828352.3 | G22: 974437.11 | H22: =E22+F22-G22 -> 779959.54 | I22: =H22-E22 -> -146084.81
C23: Estimación por Pérdida o Deterioro de Activos Circulantes | E23: 0 | F23: 0 | G23: 0 | H23: =E23+F23-G23 -> 0 | I23: =H23-E23 -> 0
C24: Otros Activos Circulantes | E24: 23294 | F24: 0 | G24: 0 | H24: =E24+F24-G24 -> 23294 | I24: =H24-E24 -> 0
C26: Total de Activos Circulantes | E26: =SUM(E18:E24) -> 41961088 | F26: =SUM(F18:F25) -> 1.5645043e+09 | G26: =SUM(G18:G25) -> 1.5085278e+09 | H26: =SUM(H18:H25) -> 97937582 | I26: =SUM(I18:I25) -> 55976494
C29: Activo No Circulante
C31: Inversiones Financieras a Largo Plazo | E31: 0 | F31: 0 | G31: 0 | H31: =E31+F31-G31 -> 0 | I31: =H31-E31 -> 0
C32: Derechos a Recibir Efectivo o Equivalentes a Largo Plazo | E32: 0 | F32: 0 | G32: 0 | H32: =E32+F32-G32 -> 0 | I32: =H32-E32 -> 0
C33: Bienes Inmuebles, Infraestructura y Construcciones en Proceso | E33: 87177084 | F33: 0 | G33: 0 | H33: =E33+F33-G33 -> 87177084 | I33: =H33-E33 -> 0
C34: Bienes Muebles | E34: 23849997 | F34: 229109.74 | G34: 0 | H34: =E34+F34-G34 -> 24079107 | I34: =H34-E34 -> 229109.74
C35: Activos Intangibles | E35: 677440 | F35: 0 | G35: 0 | H35: =E35+F35-G35 -> 677440 | I35: =H35-E35 -> 0
C36: Depreciación, Deterioro y Amortización Acumulada de Bienes | E36: -12691459 | F36: 0 | G36: 0 | H36: =E36+F36-G36 -> -12691459 | I36: =H36-E36 -> 0
C37: Activos Diferidos | E37: 0 | F37: 0 | G37: 0 | H37: =E37+F37-G37 -> 0 | I37: =H37-E37 -> 0
C38: Estimación por Pérdida o Deterioro de Activos no Circulantes | E38: 0 | F38: 0 | G38: 0 | H38: =E38+F38-G38 -> 0 | I38: =H38-E38 -> 0
C39: Otros Activos no Circulantes | E39: 0 | F39: 0 | G39: 0 | H39: =E39+F39-G39 -> 0 | I39: =H39-E39 -> 0
C41: Total de Activos No Circulantes | E41: =SUM(E31:E40) -> 99013062 | F41: =SUM(F31:F40) -> 229109.74 | G41: =SUM(G31:G40) -> 0 | H41: =SUM(H31:H40) -> 99242172 | I41: =SUM(I31:I40) -> 229109.74
C43: TOTAL DEL ACTIVO | E43: =E26+E41 -> 1.4097415e+08 | F43: =F26+F41 -> 1.5647334e+09 | G43: =G26+G41 -> 1.5085278e+09 | H43: =H26+H41 -> 1.9717975e+08 | I43: =I26+I41 -> 56205604
C59: "Bajo protesta de decir verdad declaramos que los Estados Financieros y sus Notas son razonablemente correctos y responsabilidad del emisor"

Sheet EADYOP
B3: Estado Analítico de la Deuda y Otros Pasivos
B4: Del 01 de Enero al 31 de agosto de 2020
B5: (Pesos)
B6: O.P.D. DE LA ADMINISTRACIÓN PÚBLICA MUNICIPAL, DENOMINADO SISTEMA PARA EL DESARROLLO INTEGRAL DE LA FAMILIA DE GUADALAJARA
C8: Denominación de las Deudas | G8: Moneda de Contratación | H8: Institución o País Acreedor | I8: Saldo Inicial del Periodo | J8: Saldo Final del Periodo
C11: DEUDA PÚBLICA
C12: Corto Plazo
C13: Deuda Interna | I13: =SUM(I14:I16) -> 0 | J13: =SUM(J14:J16) -> 0
D14: Instituciones de Crédito | I14: 0 | J14: 0
D15: Títulos y Valores | I15: 0 | J15: 0
D16: Arrendamientos Financieros | I16: 0 | J16: 0
C18: Deuda Externa | I18: =SUM(I19:I22) -> 0 | J18: =SUM(J19:J22) -> 0
D19: Organismos Financieros Internacionales | I19: 0 | J19: 0
D20: Deuda Bilateral | I20: 0 | J20: 0
D21: Títulos y Valores | I21: 0 | J21: 0
D22: Arrendamientos Financieros | I22: 0 | J22: 0
C24: Subtotal a Corto Plazo | I24: =I13+I18 -> 0 | J24: =J13+J18 -> 0
C26: Largo Plazo
C27: Deuda Interna | I27: =SUM(I28:I30) -> 0 | J27: =SUM(J28:J30) -> 0
D28: Instituciones de Crédito | I28: 0 | J28: 0
D29: Títulos y Valores | I29: 0 | J29: 0
D30: Arrendamientos Financieros | I30: 0 | J30: 0
C32: Deuda Externa | I32: =SUM(I33:I36) -> 0 | J32: =SUM(J33:J36) -> 0
D33: Organismos Financieros Internacionales | I33: 0 | J33: 0
D34: Deuda Bilateral | I34: 0 | J34: 0
D35: Títulos y Valores | I35: 0 | J35: 0
D36: Arrendamientos Financieros | I36: 0 | J36: 0
C38: Subtotal a Largo Plazo | I38: =I27+I32 -> 0 | J38: =J27+J32 -> 0
C40: Otros Pasivos | I40: 33169142 | J40: =ESF!J37 -> 16020931
C42: Total Deuda y Otros Pasivos | I42: =I40 -> 33169142 | J42: =J40 -> 16020931
C45: "Bajo protesta de decir verdad declaramos que los Estados Financieros y sus Notas son razonablemente correctos y responsabilidad del emisor"

Sheet PORTADA_Presupuestaria

Sheet a) Analítico Ingresos

Sheet b) Clasificación Administrativa
B6: Cuenta Pública 2014
B7: Poder Ejecutivo
B8: Estado Analítico del Ejercicio del Presupuesto de Egresos
B9: Clasificación Administrativa
B10: Del 1 de enero al 31 de diciembre de 2014
B12: Concepto | D12: Egresos | I12: Subejercicio
D13: Aprobado | E13: Ampliaciones/ (Reducciones) | F13: Modificado | G13: Devengado | H13: Pagado
D14: 1 | E14: 2 | F14: 3 = (1 + 2 ) | G14: 4 | H14: 5 | I14: 6 = ( 3 - 4 )
C16: Dependencia o Unidad Admninistrativa 1 | F16: =D16+E16 -> 0 | I16: =F16-G16 -> 0
C17: Dependencia o Unidad Admninistrativa 2 | F17: =D17+E17 -> 0 | I17: =F17-G17 -> 0
C18: Dependencia o Unidad Admninistrativa 3 | F18: =D18+E18 -> 0 | I18: =F18-G18 -> 0
C19: Dependencia o Unidad Admninistrativa 4 | F19: =D19+E19 -> 0 | I19: =F19-G19 -> 0
C20: Dependencia o Unidad Admninistrativa 6 | F20: =D20+E20 -> 0 | I20: =F20-G20 -> 0
C21: Dependencia o Unidad Admninistrativa 7 | F21: =D21+E21 -> 0 | I21: =F21-G21 -> 0
C22: Dependencia o Unidad Admninistrativa 8 | F22: =D22+E22 -> 0 | I22: =F22-G22 -> 0
C23: Dependencia o Unidad Admninistrativa 9 | F23: =D23+E23 -> 0 | I23: =F23-G23 -> 0
C24: Dependencia o Unidad Admninistrativa xx | F24: =D24+E24 -> 0 | I24: =F24-G24 -> 0
C26: Total del Gasto | D26: =SUM(D16:D24) -> 0 | E26: =SUM(E16:E24) -> 0 | F26: =SUM(F16:F24) -> 0 | G26: =SUM(G16:G24) -> 0 | H26: =SUM(H16:H24) -> 0 | I26: =SUM(I16:I24) -> 0

Sheet b) Clasificación Económica CTG
B2: Cuenta Pública 2014
B3: Poder Ejecutivo
B4: Estado Analítico del Ejercicio del Presupuesto de Egresos
B5: Clasificación Económica (por Tipo de Gasto)
B6: Del 1 de enero al 31 de diciembre de 2014
B8: Concepto | D8: Egresos | I8: Subejercicio
D9: Aprobado | E9: Ampliaciones/ (Reducciones) | F9: Modificado | G9: Devengado | H9: Pagado
D10: 1 | E10: 2 | F10: 3 = (1 + 2 ) | G10: 4 | H10: 5 | I10: 6 = ( 3 - 4 )
B12: Gasto Corriente | F12: =IF(AND(D12>=0,E12>=0),(D12+E12),"-") -> 0 | I12: =IF(AND(F12>=0,G12>=0),(F12-G12),"-") -> 0
B14: Gasto de Capital | F14: =IF(AND(D14>=0,E14>=0),(D14+E14),"-") -> 0 | I14: =IF(AND(F14>=0,G14>=0),(F14-G14),"-") -> 0
B16: Amortización de la Deuda y Disminución de Pasivos | F16: =IF(AND(D16>=0,E16>=0),(D16+E16),"-") -> 0 | I16: =IF(AND(F16>=0,G16>=0),(F16-G16),"-") -> 0
C18: Total del Gasto | D18: =SUM(D12+D14+D16) -> 0 | E18: =SUM(E12+E14+E16) -> 0 | F18: =SUM(F12+F14+F16) -> 0 | G18: =SUM(G12+G14+G16) -> 0 | H18: =SUM(H12+H14+H16) -> 0 | I18: =SUM(I12+I14+I16) -> 0

Sheet b) Clasificación COG (Cap-Conc)

Sheet b) Clasificación Funcional CFG
B2: Cuenta Pública 2014
B3: Poder Ejecutivo
B4: Estado Analítico del Ejercicio del Presupuesto de Egresos
B5: Clasificación Funcional (Finalidad y Función)
B6: Del 1 de enero al 31 de diciembre 2014
B8: Concepto | D8: Egresos | I8: Subejercicio
D9: Aprobado | E9: Ampliaciones/ (Reducciones) | F9: Modificado | G9: Devengado | H9: Pagado
D10: 1 | E10: 2 | F10: 3 = (1 + 2 ) | G10: 4 | H10: 5 | I10: 6 = ( 3 - 4 )
B12: Gobierno | D12: =SUM(D13:D20) -> 0 | E12: =SUM(E13:E20) -> 0 | F12: =SUM(F13:F20) -> 0 | G12: =SUM(G13:G20) -> 0 | H12: =SUM(H13:H20) -> 0 | I12: =SUM(I13:I20) -> 0
B13: Legislación | F13: =IF(AND(D13>=0,E13>=0),(D13+E13),"-") -> 0 | I13: =IF(AND(F13>=0,G13>=0),(F13-G13),"-") -> 0
B14: Justicia | F14: =IF(AND(D14>=0,E14>=0),(D14+E14),"-") -> 0 | I14: =IF(AND(F14>=0,G14>=0),(F14-G14),"-") -> 0
B15: Coordinación de la Política de Gobierno | F15: =IF(AND(D15>=0,E15>=0),(D15+E15),"-") -> 0 | I15: =IF(AND(F15>=0,G15>=0),(F15-G15),"-") -> 0
B16: Relaciones Exteriores | F16: =IF(AND(D16>=0,E16>=0),(D16+E16),"-") -> 0 | I16: =IF(AND(F16>=0,G16>=0),(F16-G16),"-") -> 0
B17: Asuntos Financieros y Hacendarios | F17: =IF(AND(D17>=0,E17>=0),(D17+E17),"-") -> 0 | I17: =IF(AND(F17>=0,G17>=0),(F17-G17),"-") -> 0
B18: Seguridad Nacional | F18: =IF(AND(D18>=0,E18>=0),(D18+E18),"-") -> 0 | I18: =IF(AND(F18>=0,G18>=0),(F18-G18),"-") -> 0
B19: Asuntos de Orden Público y de Seguridad Interior | F19: =IF(AND(D19>=0,E19>=0),(D19+E19),"-") -> 0 | I19: =IF(AND(F19>=0,G19>=0),(F19-G19),"-") -> 0
B20: Otros Servicios Generales | F20: =IF(AND(D20>=0,E20>=0),(D20+E20),"-") -> 0 | I20: =IF(AND(F20>=0,G20>=0),(F20-G20),"-") -> 0
B22: Desarrollo Social | D22: =SUM(D23:D29) -> 0 | E22: =SUM(E23:E29) -> 0 | F22: =SUM(F23:F29) -> 0 | G22: =SUM(G23:G29) -> 0 | H22: =SUM(H23:H29) -> 0 | I22: =SUM(I23:I29) -> 0
B23: Protección Ambiental | F23: =IF(AND(D23>=0,E23>=0),(D23+E23),"-") -> 0 | I23: =IF(AND(F23>=0,G23>=0),(F23-G23),"-") -> 0
B24: Vivienda y Servicios a la Comunidad | F24: =IF(AND(D24>=0,E24>=0),(D24+E24),"-") -> 0 | I24: =IF(AND(F24>=0,G24>=0),(F24-G24),"-") -> 0
B25: Salud | F25: =IF(AND(D25>=0,E25>=0),(D25+E25),"-") -> 0 | I25: =IF(AND(F25>=0,G25>=0),(F25-G25),"-") -> 0
B26: Recreación, Cultura y Otras Manifestaciones Sociales | F26: =IF(AND(D26>=0,E26>=0),(D26+E26),"-") -> 0 | I26: =IF(AND(F26>=0,G26>=0),(F26-G26),"-") -> 0
B27: Educación | F27: =IF(AND(D27>=0,E27>=0),(D27+E27),"-") -> 0 | I27: =IF(AND(F27>=0,G27>=0),(F27-G27),"-") -> 0
B28: Protección Social | F28: =IF(AND(D28>=0,E28>=0),(D28+E28),"-") -> 0 | I28: =IF(AND(F28>=0,G28>=0),(F28-G28),"-") -> 0
B29: Otros Asuntos Sociales | F29: =IF(AND(D29>=0,E29>=0),(D29+E29),"-") -> 0 | I29: =IF(AND(F29>=0,G29>=0),(F29-G29),"-") -> 0
B31: Desarrollo Económico | D31: =SUM(D32:D40) -> 0 | E31: =SUM(E32:E40) -> 0 | F31: =SUM(F32:F40) -> 0 | G31: =SUM(G32:G40) -> 0 | H31: =SUM(H32:H40) -> 0 | I31: =SUM(I32:I40) -> 0
B32: Asuntos Económicos, Comerciales y Laborales en General | F32: =IF(AND(D32>=0,E32>=0),(D32+E32),"-") -> 0 | I32: =IF(AND(F32>=0,G32>=0),(F32-G32),"-") -> 0
B33: Agropecuaria, Silvicultura, Pesca y Caza | F33: =IF(AND(D33>=0,E33>=0),(D33+E33),"-") -> 0 | I33: =IF(AND(F33>=0,G33>=0),(F33-G33),"-") -> 0
B34: Combustibles y Energía | F34: =IF(AND(D34>=0,E34>=0),(D34+E34),"-") -> 0 | I34: =IF(AND(F34>=0,G34>=0),(F34-G34),"-") -> 0
B35: Minería, Manufacturas y Construcción | F35: =IF(AND(D35>=0,E35>=0),(D35+E35),"-") -> 0 | I35: =IF(AND(F35>=0,G35>=0),(F35-G35),"-") -> 0
B36: Transporte | F36: =IF(AND(D36>=0,E36>=0),(D36+E36),"-") -> 0 | I36: =IF(AND(F36>=0,G36>=0),(F36-G36),"-") -> 0
B37: Comunicaciones | F37: =IF(AND(D37>=0,E37>=0),(D37+E37),"-") -> 0 | I37: =IF(AND(F37>=0,G37>=0),(F37-G37),"-") -> 0
B38: Turismo | F38: =IF(AND(D38>=0,E38>=0),(D38+E38),"-") -> 0 | I38: =IF(AND(F38>=0,G38>=0),(F38-G38),"-") -> 0
B39: Ciencia, Tecnología e Innovación | F39: =IF(AND(D39>=0,E39>=0),(D39+E39),"-") -> 0 | I39: =IF(AND(F39>=0,G39>=0),(F39-G39),"-") -> 0
B40: Otras Industrias y Otros Asuntos Económicos | F40: =IF(AND(D40>=0,E40>=0),(D40+E40),"-") -> 0 | I40: =IF(AND(F40>=0,G40>=0),(F40-G40),"-") -> 0
B42: Otras no Clasificadas en Funciones Anteriores | D42: =SUM(D43:D46) -> 0 | E42: =SUM(E43:E46) -> 0 | F42: =SUM(F43:F46) -> 0 | G42: =SUM(G43:G46) -> 0 | H42: =SUM(H43:H46) -> 0 | I42: =SUM(I43:I46) -> 0
B43: Transacciones de la Deuda Publica / Costo Financiero de la Deuda | F43: =IF(AND(D43>=0,E43>=0),(D43+E43),"-") -> 0 | I43: =IF(AND(F43>=0,G43>=0),(F43-G43),"-") -> 0
B44: Transferencias, Participaciones y Aportaciones entre Diferentes Niveles y Ordenes de Gobierno | F44: =IF(AND(D44>=0,E44>=0),(D44+E44),"-") -> 0 | I44: =IF(AND(F44>=0,G44>=0),(F44-G44),"-") -> 0
B45: Saneamiento del Sistema Financiero | F45: =IF(AND(D45>=0,E45>=0),(D45+E45),"-") -> 0 | I45: =IF(AND(F45>=0,G45>=0),(F45-G45),"-") -> 0
B46: Adeudos de Ejercicios Fiscales Anteriores | F46: =IF(AND(D46>=0,E46>=0),(D46+E46),"-") -> 0 | I46: =IF(AND(F46>=0,G46>=0),(F46-G46),"-") -> 0
...

Sheet c) Endeudamiento Neto
B2: Cuenta Pública 2014
B3: Poder Ejecutivo
B4: Endeudamiento Neto
B5: Del 01 de Enero al 31 de Diciembre del 2014
B7: Identificación de Crédito o Instrumento | D7: Colocación | F7: Amortización | H7: Endeudamiento Neto
D8: A | F8: B | H8: C = A - B
B9: Creditos Bancarios
H10: =IF(AND(D10>=0,F10>=0),(D10-F10),"-") -> 0 | I10: =IF(AND(H10>=0,G10>=0),SUM(G10:H10),"-") -> 0
H11: =IF(AND(D11>=0,F11>=0),(D11-F11),"-") -> 0 | I11: =IF(AND(H11>=0,G11>=0),SUM(G11:H11),"-") -> 0
H12: =IF(AND(D12>=0,F12>=0),(D12-F12),"-") -> 0 | I12: =IF(AND(H12>=0,G12>=0),SUM(G12:H12),"-") -> 0
H13: =IF(AND(D13>=0,F13>=0),(D13-F13),"-") -> 0 | I13: =IF(AND(H13>=0,G13>=0),SUM(G13:H13),"-") -> 0
H14: =IF(AND(D14>=0,F14>=0),(D14-F14),"-") -> 0 | I14: =IF(AND(H14>=0,G14>=0),SUM(G14:H14),"-") -> 0
H15: =IF(AND(D15>=0,F15>=0),(D15-F15),"-") -> 0 | I15: =IF(AND(H15>=0,G15>=0),SUM(G15:H15),"-") -> 0
H16: =IF(AND(D16>=0,F16>=0),(D16-F16),"-") -> 0 | I16: =IF(AND(H16>=0,G16>=0),SUM(G16:H16),"-") -> 0
H17: =IF(AND(D17>=0,F17>=0),(D17-F17),"-") -> 0 | I17: =IF(AND(H17>=0,G17>=0),SUM(G17:H17),"-") -> 0
H18: =IF(AND(D18>=0,F18>=0),(D18-F18),"-") -> 0 | I18: =IF(AND(H18>=0,G18>=0),SUM(G18:H18),"-") -> 0
B19: Total Créditos Bancarios | D19: =SUM(D10:E18) -> 0 | F19: =SUM(F10:G18) -> 0 | H19: =SUM(H10:I18) -> 0
B21: Otros Instrumentos de Deuda
H22: =IF(AND(D22>=0,F22>=0),(D22-F22),"-") -> 0 | I22: =IF(AND(H22>=0,G22>=0),SUM(G22:H22),"-") -> 0
H23: =IF(AND(D23>=0,F23>=0),(D23-F23),"-") -> 0 | I23: =IF(AND(H23>=0,G23>=0),SUM(G23:H23),"-") -> 0
H24: =IF(AND(D24>=0,F24>=0),(D24-F24),"-") -> 0 | I24: =IF(AND(H24>=0,G24>=0),SUM(G24:H24),"-") -> 0
H25: =IF(AND(D25>=0,F25>=0),(D25-F25),"-") -> 0 | I25: =IF(AND(H25>=0,G25>=0),SUM(G25:H25),"-") -> 0
H26: =IF(AND(D26>=0,F26>=0),(D26-F26),"-") -> 0 | I26: =IF(AND(H26>=0,G26>=0),SUM(G26:H26),"-") -> 0
H27: =IF(AND(D27>=0,F27>=0),(D27-F27),"-") -> 0 | I27: =IF(AND(H27>=0,G27>=0),SUM(G27:H27),"-") -> 0
H28: =IF(AND(D28>=0,F28>=0),(D28-F28),"-") -> 0 | I28: =IF(AND(H28>=0,G28>=0),SUM(G28:H28),"-") -> 0
H29: =IF(AND(D29>=0,F29>=0),(D29-F29),"-") -> 0 | I29: =IF(AND(H29>=0,G29>=0),SUM(G29:H29),"-") -> 0
H30: =IF(AND(D30>=0,F30>=0),(D30-F30),"-") -> 0 | I30: =IF(AND(H30>=0,G30>=0),SUM(G30:H30),"-") -> 0
B31: Total Otros Instrumentos de Deuda | D31: =SUM(D22:E30) -> 0 | F31: =SUM(F22:G30) -> 0 | H31: =SUM(H22:I30) -> 0
B33: TOTAL | D33: =SUM(D19,D31) -> 0 | F33: =SUM(F19,F31) -> 0 | H33: =SUM(H19,H31) -> 0

Sheet d) Intereses de la Deuda
B2: Cuenta Pública 2014
B3: Poder Ejecutivo
B4: Intereses de la Deuda
B5: Del 1 de enero al 31 de diciembre de 2014
B7: Identificación de Crédito o Instrumento | D7: Devengado | F7: Pagado
B8: Créditos Bancarios
B18: Total Créditos Bancarios | D18: =SUM(D9:E17) -> 0 | F18: =SUM(F9:G17) -> 0
B20: Otros Instrumentos de Deuda
B30: Total Otros Instrumentos de Deuda | D30: =SUM(D21:E29) -> 0 | F30: =SUM(F21:G29) -> 0
B32: TOTAL | D32: =D30+D18 -> 0 | F32: =F30+F18 -> 0

Sheet e)Indicadores de Postura Fiscal
A1: Nombre del Ente Público
A2: Indicadores de Postura Fiscal
A3: Del 1 de Enero al 31 de Diciembre 2014
A5: Concepto | C5: Estimado | D5: Devengado | E5: Pagado 3
A7: I. Ingresos Presupuestarios (I=1+2) | C7: =C8+C9 -> 0 | D7: =D8+D9 -> 0 | E7: =E8+E9 -> 0
B8: 1. Ingresos del Gobierno de la Entidad Federativa 1
B9: 2. Ingresos del Sector Paraestatal 1
A11: II. Egresos Presupuestarios (II=3+4) | C11: =C12+C13 -> 0 | D11: =D12+D13 -> 0 | E11: =E12+E13 -> 0
B12: 3. Egresos del Gobierno de la Entidad Federativa 2
B13: 4. Egresos del Sector Paraestatal 2
A15: III. Balance Presupuestario (Superávit o Déficit) (III = I - II) | C15: =C7-C11 -> 0 | D15: =D7-D11 -> 0 | E15: =E7-E11 -> 0
A17: Concepto | C17: Estimado | D17: Devengado | E17: Pagado 3
A19: III. Balance presupuestario (Superávit o Déficit) | C19: =C15 -> 0 | D19: =D15 -> 0 | E19: =E15 -> 0
A21: IV. Intereses, Comisiones y Gastos de la Deuda
A23: V. Balance Primario (Superávit o Déficit) (V= III - IV) | C23: =C19-C21 -> 0 | D23: =D19-D21 -> 0 | E23: =E19-E21 -> 0
A25: Concepto | C25: Estimado | D25: Devengado | E25: Pagado 3
A27: A. Financiamiento
A29: B. Amortización de la deuda
A31: C. Endeudamiento ó desendeudamiento (C = A - B) | C31: =C27-C29 -> 0 | D31: =D27-D29 -> 0 | E31: =E27-E29 -> 0
A33: 1. Los Ingresos que se presentan son los ingresos presupuestarios totales sin incluir los ingresos por financiamientos. Los Ingresos del Gobierno de la Entidad Federativa corresponden a los del Poder Ejecutivo, Legislativo Judicial y Autónomos
A34: 2. Los egresos que se presentan son los egresos presupuestarios totales sin incluir los egresos por amortización. Los egresos del Gobierno de la Entidad Federativa corresponden a los del Poder Ejecutivo, Legislativo, Judicial y Órganos Autónomos
A35: 3. Para Ingresos se reportan los ingresos recaudados; para egresos se reportan los egresos pagados

Sheet PORTADA PROGRAMATICA

Sheet a) Gto x Cat Programatica
B2: Cuenta Pública 2014
B3: Poder Ejecutivo
B4: Gasto por Categoría Programática
B5: Del 1 de enero al 31 de diciembre 2014
B8: Concepto | E8: Egresos | J8: Subejercicio
E9: Aprobado | F9: Ampliaciones/ (Reducciones) | G9: Modificado | H9: Devengado | I9: Pagado
E10: 1 | F10: 2 | G10: 3 = (1 + 2 ) | H10: 4 | I10: 5 | J10: 6 = ( 3 - 4 )
B11: Programas | E11: =SUM(E12,E15,E24,E28,E31,E36) -> 0 | F11: =SUM(F12,F15,F24,F28,F31,F36) -> 0 | G11: =SUM(G12,G15,G24,G28,G31,G36) -> 0 | H11: =SUM(H12,H15,H24,H28,H31,H36) -> 0 | I11: =SUM(I12,I15,I24,I28,I31,I36) -> 0 | J11: =SUM(J12,J15,J24,J28,J31,J36) -> 0
C12: Subsidios: Sector Social y Privado o Entidades Federativas y Municipios | E12: =SUM(E13:E14) -> 0 | F12: =SUM(F13:F14) -> 0 | G12: =SUM(G13:G14) -> 0 | H12: =SUM(H13:H14) -> 0 | I12: =SUM(I13:I14) -> 0 | J12: =SUM(J13:J14) -> 0
D13: Sujetos a Reglas de Operación | G13: =IF(AND(F13>=0,E13>=0),SUM(E13:F13),"-") -> 0 | J13: =IF(AND(H13>=0,G13>=0),(G13-H13),"-") -> 0
D14: Otros Subsidios | G14: =IF(AND(F14>=0,E14>=0),SUM(E14:F14),"-") -> 0 | J14: =IF(AND(H14>=0,G14>=0),(G14-H14),"-") -> 0
C15: Desempeño de las Funciones | E15: =SUM(E16:E23) -> 0 | F15: =SUM(F16:F23) -> 0 | G15: =SUM(G16:G23) -> 0 | H15: =SUM(H16:H23) -> 0 | I15: =SUM(I16:I23) -> 0 | J15: =SUM(J16:J23) -> 0
D16: Prestación de Servicios Públicos | G16: =IF(AND(F16>=0,E16>=0),SUM(E16:F16),"-") -> 0 | J16: =IF(AND(H16>=0,G16>=0),(G16-H16),"-") -> 0
D17: Provisión de Bienes Públicos | G17: =IF(AND(F17>=0,E17>=0),SUM(E17:F17),"-") -> 0 | J17: =IF(AND(H17>=0,G17>=0),(G17-H17),"-") -> 0
D18: Planeación, seguimiento y evaluación de políticas públicas | G18: =IF(AND(F18>=0,E18>=0),SUM(E18:F18),"-") -> 0 | J18: =IF(AND(H18>=0,G18>=0),(G18-H18),"-") -> 0
D19: Promoción y fomento | G19: =IF(AND(F19>=0,E19>=0),SUM(E19:F19),"-") -> 0 | J19: =IF(AND(H19>=0,G19>=0),(G19-H19),"-") -> 0
D20: Regulación y supervisión | G20: =IF(AND(F20>=0,E20>=0),SUM(E20:F20),"-") -> 0 | J20: =IF(AND(H20>=0,G20>=0),(G20-H20),"-") -> 0
D21: Funciones de las Fuerzas Armadas (Únicamente Gobierno Federal) | G21: =IF(AND(F21>=0,E21>=0),SUM(E21:F21),"-") -> 0 | J21: =IF(AND(H21>=0,G21>=0),(G21-H21),"-") -> 0
D22: Específicos | G22: =IF(AND(F22>=0,E22>=0),SUM(E22:F22),"-") -> 0 | J22: =IF(AND(H22>=0,G22>=0),(G22-H22),"-") -> 0
D23: Proyectos de Inversión | G23: =IF(AND(F23>=0,E23>=0),SUM(E23:F23),"-") -> 0 | J23: =IF(AND(H23>=0,G23>=0),(G23-H23),"-") -> 0
C24: Administrativos y de Apoyo | E24: =SUM(E25:E27) -> 0 | F24: =SUM(F25:F27) -> 0 | G24: =SUM(G25:G27) -> 0 | H24: =SUM(H25:H27) -> 0 | I24: =SUM(I25:I27) -> 0 | J24: =SUM(J25:J27) -> 0
D25: Apoyo al proceso presupuestario y para mejorar la eficiencia institucional | G25: =IF(AND(F25>=0,E25>=0),SUM(E25:F25),"-") -> 0 | J25: =IF(AND(H25>=0,G25>=0),(G25-H25),"-") -> 0
D26: Apoyo a la función pública y al mejoramiento de la gestión | G26: =IF(AND(F26>=0,E26>=0),SUM(E26:F26),"-") -> 0 | J26: =IF(AND(H26>=0,G26>=0),(G26-H26),"-") -> 0
D27: Operaciones ajenas | G27: =IF(AND(F27>=0,E27>=0),SUM(E27:F27),"-") -> 0 | J27: =IF(AND(H27>=0,G27>=0),(G27-H27),"-") -> 0
C28: Compromisos | E28: =SUM(E29:E30) -> 0 | F28: =SUM(F29:F30) -> 0 | G28: =SUM(G29:G30) -> 0 | H28: =SUM(H29:H30) -> 0 | I28: =SUM(I29:I30) -> 0 | J28: =SUM(J29:J30) -> 0
D29: Obligaciones de cumplimiento de resolución jurisdiccional | G29: =IF(AND(F29>=0,E29>=0),SUM(E29:F29),"-") -> 0 | J29: =IF(AND(H29>=0,G29>=0),(G29-H29),"-") -> 0
D30: Desastres Naturales | G30: =IF(AND(F30>=0,E30>=0),SUM(E30:F30),"-") -> 0 | J30: =IF(AND(H30>=0,G30>=0),(G30-H30),"-") -> 0
C31: Obligaciones | E31: =SUM(E32:E35) -> 0 | F31: =SUM(F32:F35) -> 0 | G31: =SUM(G32:G35) -> 0 | H31: =SUM(H32:H35) -> 0 | I31: =SUM(I32:I35) -> 0 | J31: =SUM(J32:J35) -> 0
D32: Pensiones y jubilaciones | G32: =IF(AND(F32>=0,E32>=0),SUM(E32:F32),"-") -> 0 | J32: =IF(AND(H32>=0,G32>=0),(G32-H32),"-") -> 0
D33: Aportaciones a la seguridad social | G33: =IF(AND(F33>=0,E33>=0),SUM(E33:F33),"-") -> 0 | J33: =IF(AND(H33>=0,G33>=0),(G33-H33),"-") -> 0
D34: Aportaciones a fondos de estabilización | G34: =IF(AND(F34>=0,E34>=0),SUM(E34:F34),"-") -> 0 | J34: =IF(AND(H34>=0,G34>=0),(G34-H34),"-") -> 0
D35: Aportaciones a fondos de inversión y reestructura de pensiones | G35: =IF(AND(F35>=0,E35>=0),SUM(E35:F35),"-") -> 0 | J35: =IF(AND(H35>=0,G35>=0),(G35-H35),"-") -> 0
C36: Programas de Gasto Federalizado (Gobierno Federal) | E36: =SUM(E37) -> 0 | F36: =SUM(F37) -> 0 | G36: =SUM(G37) -> 0 | H36: =SUM(H37) -> 0 | I36: =SUM(I37) -> 0 | J36: =SUM(J37) -> 0
D37: Gasto Federalizado | G37: =IF(AND(F37>=0,E37>=0),SUM(E37:F37),"-") -> 0 | J37: =IF(AND(H37>=0,G37>=0),(G37-H37),"-") -> 0
B38: Participaciones a entidades federativas y municipios | G38: =IF(AND(F38>=0,E38>=0),SUM(E38:F38),"-") -> 0 | J38: =IF(AND(H38>=0,G38>=0),(G38-H38),"-") -> 0
B39: Costo financiero, deuda o apoyos a deudores y ahorradores de la banca | G39: =IF(AND(F39>=0,E39>=0),SUM(E39:F39),"-") -> 0 | J39: =IF(AND(H39>=0,G39>=0),(G39-H39),"-") -> 0
B40: Adeudos de ejercicios fiscales anteriores | G40: =IF(AND(F40>=0,E40>=0),SUM(E40:F40),"-") -> 0 | J40: =IF(AND(H40>=0,G40>=0),(G40-H40),"-") -> 0
C42: Total del Gasto | E42: =SUM(E11,E38,E39,E40) -> 0 | F42: =SUM(F11,F38,F39,F40) -> 0 | G42: =SUM(G11,G38,G39,G40) -> 0 | H42: =SUM(H11,H38,H39,H40) -> 0 | I42: =SUM(I11,I38,I39,I40) -> 0 | J42: =SUM(J11,J38,J39,J40) -> 0

Sheet b) Pg y Py de Inversión

Sheet c) Indicadores Resultados

Sheet PORTADA_Anexos

Sheet B. Muebles
B1: Relación de Bienes Muebles que Componen el Patrimonio
B2: Cuenta Pública 2015
B3: (Pesos)
B4: Ente Público: | C4: Sistema Integral Para el Desarrrollo de la Familia (DIF Guadalajara)
A7: Código | C7: Descripción del Bien Mueble | D7: Valor en libros
D9: 0
D10: 0
D11: 0
D12: 0
D13: 0
D14: 0
D15: 0
D16: 0
D17: 0
D18: 0
D19: 0
D20: 0
... D42: 0

Sheet B. Inmuebles
B1: Relación de Bienes Inmuebles que Componen el Patrimonio
B2: Cuenta Pública 2015
B3: (Pesos)
B4: Ente Público: | C4: Sistema Intgral Para el Desarrollo de la Familia (DIF Guadalajara)
A7: Código | C7: Descripción del Bien Inmueble | D7: Valor en libros
D9: 0
D10: 0
D11: 0
D12: 0
D13: 0
D14: 0
D15: 0
D16: 0
D17: 0
D18: 0
D19: 0
D20: 0
... D42: 0

Sheet Rel Ctas Bancarias
A1: Cuenta Pública 2014
A2: Poder Ejecutivo:
A3: Relación de cuentas bancarias productivas específicas
A4: Fondo, Programa o Convenio | B4: Datos de la Cuenta Bancaria
B5: Institución Bancaria | C5: Número de Cuenta
